BEGIN:VCALENDAR
VERSION:2.0
PRODID:-//Urban League of Louisiana - ECPv6.15.20//NONSGML v1.0//EN
CALSCALE:GREGORIAN
METHOD:PUBLISH
X-WR-CALNAME:Urban League of Louisiana
X-ORIGINAL-URL:https://urbanleaguela.org
X-WR-CALDESC:Events for Urban League of Louisiana
REFRESH-INTERVAL;VALUE=DURATION:PT1H
X-Robots-Tag:noindex
X-PUBLISHED-TTL:PT1H
BEGIN:VTIMEZONE
TZID:America/Chicago
BEGIN:DAYLIGHT
TZOFFSETFROM:-0600
TZOFFSETTO:-0500
TZNAME:CDT
DTSTART:20240310T080000
END:DAYLIGHT
BEGIN:STANDARD
TZOFFSETFROM:-0500
TZOFFSETTO:-0600
TZNAME:CST
DTSTART:20241103T070000
END:STANDARD
BEGIN:DAYLIGHT
TZOFFSETFROM:-0600
TZOFFSETTO:-0500
TZNAME:CDT
DTSTART:20250309T080000
END:DAYLIGHT
BEGIN:STANDARD
TZOFFSETFROM:-0500
TZOFFSETTO:-0600
TZNAME:CST
DTSTART:20251102T070000
END:STANDARD
BEGIN:DAYLIGHT
TZOFFSETFROM:-0600
TZOFFSETTO:-0500
TZNAME:CDT
DTSTART:20260308T080000
END:DAYLIGHT
BEGIN:STANDARD
TZOFFSETFROM:-0500
TZOFFSETTO:-0600
TZNAME:CST
DTSTART:20261101T070000
END:STANDARD
END:VTIMEZONE
BEGIN:VEVENT
DTSTART;TZID=America/Chicago:20250903T190000
DTEND;TZID=America/Chicago:20250903T210000
DTSTAMP:20260421T045442
CREATED:20250728T200656Z
LAST-MODIFIED:20250804T201556Z
UID:247706-1756926000-1756933200@urbanleaguela.org
SUMMARY:By The People: City Councilmember At-Large\, Division 1
DESCRIPTION:The “By The People” Debate Series\, a dynamic\, community-powered platform uplifting the voices\, needs\, and priorities of Black and Brown New Orleanians\, kicks off August 12 with City Council District A and concludes with the Mayoral Debate on September 9. \nHosted by the Urban League of Louisiana in partnership with: Ashé Cultural Arts Center • Black Voters Matter • C.O.P. • Eternal Seeds • GNOHA • Krewe of Themis • Lower 9th Ward Voters Coalition • NAACP – New Orleans • National Coalition of 100 Black Women • New Orleans NPHC • NOLA HBCU Alumni Association • The Links\, Inc. – Crescent City\, Orleans\, and Pontchartrain Chapters • Proficient Media Service • Teamer Strategy Group • The Collaborative and Xavier University. \nTogether\, we’re confronting power\, policies\, and progress in Orleans Parish. \nJoin us for a series of crucial\, high-impact debates that put our communities first. \nBecause leadership should be decided by the people — for the people. \nhttps://www.eventbrite.com/e/new-orleans-city-council-at-large-division-1-debate-tickets-1538573698349
URL:https://urbanleaguela.org/event/by-the-people-city-councilmember-at-large-division-1/
LOCATION:Ashe Cultural Ars Center\, 1712 Oretha Castle Haley Blvd\, New Orleans\, LA\, 70113
CATEGORIES:FEATURED,Social Justice,ULLA General
ATTACH;FMTTYPE=image/png:https://urbanleaguela.org/wp-content/uploads/2025/07/By-The-People-2025-Debates_-Events.png
END:VEVENT
BEGIN:VEVENT
DTSTART;TZID=America/Chicago:20250905T190000
DTEND;TZID=America/Chicago:20250905T210000
DTSTAMP:20260421T045442
CREATED:20250728T194847Z
LAST-MODIFIED:20250728T221836Z
UID:247700-1757098800-1757106000@urbanleaguela.org
SUMMARY:By The People: Orleans Parish Assessor
DESCRIPTION:The “By The People” Debate Series\, a dynamic\, community-powered platform uplifting the voices\, needs\, and priorities of Black and Brown New Orleanians\, kicks off August 12 with City Council District A and concludes with the Mayoral Debate on September 9. \nHosted by the Urban League of Louisiana in partnership with: Ashé Cultural Arts Center • Black Voters Matter • C.O.P. • Eternal Seeds • GNOHA • Krewe of Themis • Lower 9th Ward Voters Coalition • NAACP – New Orleans • National Coalition of 100 Black Women • New Orleans NPHC • NOLA HBCU Alumni Association • The Links\, Inc. – Crescent City\, Orleans\, and Pontchartrain Chapters • Proficient Media Service • Teamer Strategy Group • The Collaborative and Xavier University. \nTogether\, we’re confronting power\, policies\, and progress in Orleans Parish. \nJoin us for a series of crucial\, high-impact debates that put our communities first. \nBecause leadership should be decided by the people — for the people. \nhttps://www.eventbrite.com/e/new-orleans-assessors-debate-tickets-1538578683259
URL:https://urbanleaguela.org/event/by-the-people-orleans-parish-assessor/
LOCATION:Ashe Cultural Ars Center\, 1712 Oretha Castle Haley Blvd\, New Orleans\, LA\, 70113
CATEGORIES:FEATURED,Social Justice,ULLA General
ATTACH;FMTTYPE=image/png:https://urbanleaguela.org/wp-content/uploads/2025/07/By-The-People-2025-Debates_-Events.png
END:VEVENT
BEGIN:VEVENT
DTSTART;TZID=America/Chicago:20250909T190000
DTEND;TZID=America/Chicago:20250909T210000
DTSTAMP:20260421T045442
CREATED:20250728T195159Z
LAST-MODIFIED:20250908T192038Z
UID:247703-1757444400-1757451600@urbanleaguela.org
SUMMARY:By The People: Mayoral Debate
DESCRIPTION:The “By The People” Debate Series\, a dynamic\, community-powered platform uplifting the voices\, needs\, and priorities of Black and Brown New Orleanians\, kicks off August 12 with City Council District A and concludes with the Mayoral Debate on September 9. \nHosted by the Urban League of Louisiana in partnership with: Ashé Cultural Arts Center • Black Voters Matter • C.O.P. • Eternal Seeds • GNOHA • Krewe of Themis • Lower 9th Ward Voters Coalition • NAACP – New Orleans • National Coalition of 100 Black Women • New Orleans NPHC • NOLA HBCU Alumni Association • The Links\, Inc. – Crescent City\, Orleans\, and Pontchartrain Chapters • Proficient Media Service • Teamer Strategy Group • The Collaborative and Xavier University. \nTogether\, we’re confronting power\, policies\, and progress in Orleans Parish. \nJoin us for a series of crucial\, high-impact debates that put our communities first. \nBecause leadership should be decided by the people — for the people. \nhttps://www.eventbrite.com/e/new-orleans-mayoral-debate-tickets-1538585202759
URL:https://urbanleaguela.org/event/2025mayoraldebate/
LOCATION:Xavier University of Louisiana Convocation Center\, 7900 Stroelitz St.\, New Orleans\, LA\, 70125
CATEGORIES:FEATURED,Social Justice,ULLA General
ATTACH;FMTTYPE=image/png:https://urbanleaguela.org/wp-content/uploads/2025/07/By-The-People-2025-Debates_-Events.png
END:VEVENT
BEGIN:VEVENT
DTSTART;TZID=America/Chicago:20250924T100000
DTEND;TZID=America/Chicago:20250924T150000
DTSTAMP:20260421T045442
CREATED:20250911T195803Z
LAST-MODIFIED:20250912T212109Z
UID:247876-1758708000-1758726000@urbanleaguela.org
SUMMARY:Multi-Industry Career & Resource Expo
DESCRIPTION:Join us for the Multi-Industry Apprenticeship Career & Resource Expo\, held in partnership with the National Urban League\, the Louisiana Community & Technical Colleges System\, Greater New Orleans\, Inc.\, and the H2theFuture Project\, in recognition of National Workforce Development Month 2025. \nLearn about future opportunities for education and training related to clean and renewable energy and hydrogen jobs\, automotive\, line worker\, cyber security\, skilled craft trades\, and more. Talk directly with employers who are hiring and the educational institutions providing training to help you join the energy workforce.
URL:https://urbanleaguela.org/event/multi-industry-expo-2025/
LOCATION:Urban League of Louisiana HQ\, 4640 S. Carrollton Ave.\, New Orleans\, LA\, 70119\, United States
CATEGORIES:FEATURED,OWD,ULLA General
ATTACH;FMTTYPE=image/png:https://urbanleaguela.org/wp-content/uploads/2025/09/Construction-Workers_Event.png
END:VEVENT
END:VCALENDAR