BEGIN:VCALENDAR
VERSION:2.0
PRODID:-//Urban League of Louisiana - ECPv6.15.20//NONSGML v1.0//EN
CALSCALE:GREGORIAN
METHOD:PUBLISH
X-ORIGINAL-URL:https://urbanleaguela.org
X-WR-CALDESC:Events for Urban League of Louisiana
REFRESH-INTERVAL;VALUE=DURATION:PT1H
X-Robots-Tag:noindex
X-PUBLISHED-TTL:PT1H
BEGIN:VTIMEZONE
TZID:America/Chicago
BEGIN:DAYLIGHT
TZOFFSETFROM:-0600
TZOFFSETTO:-0500
TZNAME:CDT
DTSTART:20190310T080000
END:DAYLIGHT
BEGIN:STANDARD
TZOFFSETFROM:-0500
TZOFFSETTO:-0600
TZNAME:CST
DTSTART:20191103T070000
END:STANDARD
BEGIN:DAYLIGHT
TZOFFSETFROM:-0600
TZOFFSETTO:-0500
TZNAME:CDT
DTSTART:20200308T080000
END:DAYLIGHT
BEGIN:STANDARD
TZOFFSETFROM:-0500
TZOFFSETTO:-0600
TZNAME:CST
DTSTART:20201101T070000
END:STANDARD
BEGIN:DAYLIGHT
TZOFFSETFROM:-0600
TZOFFSETTO:-0500
TZNAME:CDT
DTSTART:20210314T080000
END:DAYLIGHT
BEGIN:STANDARD
TZOFFSETFROM:-0500
TZOFFSETTO:-0600
TZNAME:CST
DTSTART:20211107T070000
END:STANDARD
END:VTIMEZONE
BEGIN:VEVENT
DTSTART;TZID=America/Chicago:20200709T130000
DTEND;TZID=America/Chicago:20200709T143000
DTSTAMP:20260423T013729
CREATED:20200703T152910Z
LAST-MODIFIED:20200703T152910Z
UID:93502-1594299600-1594305000@urbanleaguela.org
SUMMARY:The Future of Work and Creating Wealth in Minority Communities
DESCRIPTION:During this session\, local national thought leaders will provide insights and recommendations on preparing minorities for the future of work with automation and closing the wealth gap in America between minority and non-minority communities. Panelists will share historical and current legislation and practices that have created the skills gap and the wealth gap in America\, and recommendations for how communities of color can work to advocate for and create sustainable enterprises that create value for these communities. This session will also examine the economic\, political and cultural implications that create positive outcomes or those that hinder progress in our communities.
URL:https://urbanleaguela.org/event/the-future-of-work-and-creating-wealth-in-minority-communities/
LOCATION:LA
CATEGORIES:CEI,CRC,WBRC
ATTACH;FMTTYPE=image/png:https://urbanleaguela.org/wp-content/uploads/2020/07/Future-of-Workforce.png
END:VEVENT
END:VCALENDAR