BEGIN:VCALENDAR
VERSION:2.0
PRODID:-//Urban League of Louisiana - ECPv6.15.20//NONSGML v1.0//EN
CALSCALE:GREGORIAN
METHOD:PUBLISH
X-ORIGINAL-URL:https://urbanleaguela.org
X-WR-CALDESC:Events for Urban League of Louisiana
REFRESH-INTERVAL;VALUE=DURATION:PT1H
X-Robots-Tag:noindex
X-PUBLISHED-TTL:PT1H
BEGIN:VTIMEZONE
TZID:America/Chicago
BEGIN:DAYLIGHT
TZOFFSETFROM:-0600
TZOFFSETTO:-0500
TZNAME:CDT
DTSTART:20190310T080000
END:DAYLIGHT
BEGIN:STANDARD
TZOFFSETFROM:-0500
TZOFFSETTO:-0600
TZNAME:CST
DTSTART:20191103T070000
END:STANDARD
BEGIN:DAYLIGHT
TZOFFSETFROM:-0600
TZOFFSETTO:-0500
TZNAME:CDT
DTSTART:20200308T080000
END:DAYLIGHT
BEGIN:STANDARD
TZOFFSETFROM:-0500
TZOFFSETTO:-0600
TZNAME:CST
DTSTART:20201101T070000
END:STANDARD
BEGIN:DAYLIGHT
TZOFFSETFROM:-0600
TZOFFSETTO:-0500
TZNAME:CDT
DTSTART:20210314T080000
END:DAYLIGHT
BEGIN:STANDARD
TZOFFSETFROM:-0500
TZOFFSETTO:-0600
TZNAME:CST
DTSTART:20211107T070000
END:STANDARD
END:VTIMEZONE
BEGIN:VEVENT
DTSTART;TZID=America/Chicago:20200626T100000
DTEND;TZID=America/Chicago:20200626T120000
DTSTAMP:20260423T025728
CREATED:20200624T200646Z
LAST-MODIFIED:20200624T212603Z
UID:93450-1593165600-1593172800@urbanleaguela.org
SUMMARY:Construction Law Academy: What Contractors Need to Know about Employment Law
DESCRIPTION:Session 3 of 3: Increasing Capacity through Partnering Agreements.  It is vitally important that entrepreneurs in construction are aware of and are in compliance with employment laws that are relevant to the industry.
URL:https://urbanleaguela.org/event/construction-law-academy-what-contractors-need-to-know-about-employment-law/
LOCATION:LA
CATEGORIES:CEI,CRC,ULLA General
ATTACH;FMTTYPE=image/png:https://urbanleaguela.org/wp-content/uploads/2020/06/Construction-Law.png
END:VEVENT
END:VCALENDAR